BEGIN:VCALENDAR
VERSION:2.0
PRODID:-//wp-events-plugin.com//7.2.3.1//EN
TZID:Europe/Paris
X-WR-TIMEZONE:Europe/Paris
BEGIN:VEVENT
UID:193@formation.tikoala.fr
DTSTART;TZID=Europe/Paris:20241007T090000
DTEND;TZID=Europe/Paris:20241008T170000
DTSTAMP:20231023T114802Z
URL:https://formation.tikoala.fr/prochaines-formations/le-massage-bebe-en-
 eaje-3/
SUMMARY:Le massage bébé en EAJE
DESCRIPTION:Formation pour pouvoir accompagner l'enfant à la détente et s
 oulager quelques maux par un toucher massage adapté.
ATTACH;FMTTYPE=image/jpeg:https://formation.tikoala.fr/wp-content/uploads/
 2020/03/formation-en-massage-bebe-scaled.jpg
LOCATION:Organisme Tikoala Formation\, L'adresse exacte sera communiquée p
 lus tard.\, Villers les Nancy\, Meurthe et Moselle\, 54600\, France
X-APPLE-STRUCTURED-LOCATION;VALUE=URI;X-ADDRESS=L'adresse exacte sera commu
 niquée plus tard.\, Villers les Nancy\, Meurthe et Moselle\, 54600\, Fran
 ce;X-APPLE-RADIUS=100;X-TITLE=Organisme Tikoala Formation:geo:0,0
END:VEVENT
BEGIN:VTIMEZONE
TZID:Europe/Paris
X-LIC-LOCATION:Europe/Paris
BEGIN:DAYLIGHT
DTSTART:20240331T030000
TZOFFSETFROM:+0100
TZOFFSETTO:+0200
TZNAME:CEST
END:DAYLIGHT
END:VTIMEZONE
END:VCALENDAR