BEGIN:VCALENDAR
VERSION:2.0
PRODID:-//wp-events-plugin.com//7.2.3.1//EN
TZID:Europe/Paris
X-WR-TIMEZONE:Europe/Paris
BEGIN:VEVENT
UID:155@formation.tikoala.fr
DTSTART;TZID=Europe/Paris:20231218T090000
DTEND;TZID=Europe/Paris:20231219T170000
DTSTAMP:20231026T134506Z
URL:https://formation.tikoala.fr/prochaines-formations/le-developpement-ne
 uro-psychomoteur-2/
SUMMARY:Le développement neuro-psychomoteur
DESCRIPTION:Formation pour écouter les besoins psychomoteurs du tout petit
  et y répondre de manière qualitative tout en lui laissant le rôle d’
 acteur principal.
ATTACH;FMTTYPE=image/jpeg:https://formation.tikoala.fr/wp-content/uploads/
 2019/12/bebe-acteur-de-son-developpement-psychomoteur.jpg
LOCATION:Organisme Tikoala Formation\, L'adresse exacte sera communiquée p
 lus tard.\, Villers les Nancy\, Meurthe et Moselle\, 54600\, France
X-APPLE-STRUCTURED-LOCATION;VALUE=URI;X-ADDRESS=L'adresse exacte sera commu
 niquée plus tard.\, Villers les Nancy\, Meurthe et Moselle\, 54600\, Fran
 ce;X-APPLE-RADIUS=100;X-TITLE=Organisme Tikoala Formation:geo:0,0
END:VEVENT
BEGIN:VTIMEZONE
TZID:Europe/Paris
X-LIC-LOCATION:Europe/Paris
BEGIN:STANDARD
DTSTART:20231029T020000
TZOFFSETFROM:+0200
TZOFFSETTO:+0100
TZNAME:CET
END:STANDARD
END:VTIMEZONE
END:VCALENDAR