BEGIN:VCALENDAR
VERSION:2.0
PRODID:-//wp-events-plugin.com//7.2.3.1//EN
TZID:Europe/Paris
X-WR-TIMEZONE:Europe/Paris
BEGIN:VEVENT
UID:138@formation.tikoala.fr
DTSTART;TZID=Europe/Paris:20231106T090000
DTEND;TZID=Europe/Paris:20231107T173000
DTSTAMP:20231017T201056Z
URL:https://formation.tikoala.fr/prochaines-formations/consultante-en-port
 age-bebe/
SUMMARY:Consultant(e) en portage bébé
DESCRIPTION:Formation pour animer des ateliers de portage physiologique des
  bébés auprès des familles dans le cadre de l'accompagnement à la pare
 ntalité. Formation sur 4 jours : les deux premiers jours auront lieu les 
 9 et 10 octobre 2023.
ATTACH;FMTTYPE=image/jpeg:https://formation.tikoala.fr/wp-content/uploads/
 2019/12/formation-en-portage-bebe-Tikoala.jpg
LOCATION:Organisme Tikoala Formation\, L'adresse exacte sera communiquée p
 lus tard.\, Villers les Nancy\, Meurthe et Moselle\, 54600\, France
X-APPLE-STRUCTURED-LOCATION;VALUE=URI;X-ADDRESS=L'adresse exacte sera commu
 niquée plus tard.\, Villers les Nancy\, Meurthe et Moselle\, 54600\, Fran
 ce;X-APPLE-RADIUS=100;X-TITLE=Organisme Tikoala Formation:geo:0,0
END:VEVENT
BEGIN:VTIMEZONE
TZID:Europe/Paris
X-LIC-LOCATION:Europe/Paris
BEGIN:STANDARD
DTSTART:20231029T020000
TZOFFSETFROM:+0200
TZOFFSETTO:+0100
TZNAME:CET
END:STANDARD
END:VTIMEZONE
END:VCALENDAR